Package: CIMICE Version: 1.14.0 Command: rm -rf CIMICE.buildbin-libdir && mkdir CIMICE.buildbin-libdir && F:\biocbuild\bbs-3.20-bioc\R\bin\R.exe CMD INSTALL --build --library=CIMICE.buildbin-libdir CIMICE_1.14.0.tar.gz StartedAt: 2025-04-01 07:54:19 -0400 (Tue, 01 Apr 2025) EndedAt: 2025-04-01 07:54:51 -0400 (Tue, 01 Apr 2025) EllapsedTime: 31.8 seconds RetCode: 0 Status: OK PackageFile: CIMICE_1.14.0.zip PackageFileSize: 1.014 MiB