Package: CIMICE Version: 1.14.0 Command: /home/biocbuild/bbs-3.20-bioc/R/bin/R CMD build --keep-empty-dirs --no-resave-data --md5 CIMICE StartedAt: 2025-01-27 17:36:04 -0500 (Mon, 27 Jan 2025) EndedAt: 2025-01-27 17:36:27 -0500 (Mon, 27 Jan 2025) EllapsedTime: 23.0 seconds RetCode: 0 Status: OK PackageFile: CIMICE_1.14.0.tar.gz PackageFileSize: 1.606 MiB