Package: CIMICE Version: 1.14.0 Command: /Library/Frameworks/R.framework/Resources/bin/R CMD check --install=check:CIMICE.install-out.txt --library=/Library/Frameworks/R.framework/Resources/library --no-vignettes --timings CIMICE_1.14.0.tar.gz StartedAt: 2025-04-01 14:08:39 -0400 (Tue, 01 Apr 2025) EndedAt: 2025-04-01 14:10:05 -0400 (Tue, 01 Apr 2025) EllapsedTime: 85.8 seconds RetCode: 0 Status: OK CheckDir: CIMICE.Rcheck Warnings: 0