Package: CHETAH Version: 1.22.0 Command: /home/biocbuild/bbs-3.20-bioc/R/bin/R CMD INSTALL CHETAH StartedAt: 2025-03-31 15:36:48 -0400 (Mon, 31 Mar 2025) EndedAt: 2025-03-31 15:37:14 -0400 (Mon, 31 Mar 2025) EllapsedTime: 25.7 seconds RetCode: 0 Status: OK