Package: CHETAH Version: 1.22.0 Command: /Library/Frameworks/R.framework/Resources/bin/R CMD build --keep-empty-dirs --no-resave-data CHETAH StartedAt: 2025-01-27 17:46:59 -0500 (Mon, 27 Jan 2025) EndedAt: 2025-01-27 17:49:32 -0500 (Mon, 27 Jan 2025) EllapsedTime: 153.5 seconds RetCode: 0 Status: OK PackageFile: CHETAH_1.22.0.tar.gz PackageFileSize: 3.578 MiB