Package: CHETAH Version: 1.22.0 Command: /Library/Frameworks/R.framework/Resources/bin/R CMD INSTALL CHETAH StartedAt: 2025-03-31 16:47:30 -0400 (Mon, 31 Mar 2025) EndedAt: 2025-03-31 16:48:01 -0400 (Mon, 31 Mar 2025) EllapsedTime: 31.3 seconds RetCode: 0 Status: OK