Package: CGHregions Version: 1.64.0 Command: chmod a+r CGHregions -R && F:\biocbuild\bbs-3.20-bioc\R\bin\R.exe CMD build --keep-empty-dirs --no-resave-data CGHregions StartedAt: 2025-03-31 17:55:29 -0400 (Mon, 31 Mar 2025) EndedAt: 2025-03-31 17:55:48 -0400 (Mon, 31 Mar 2025) EllapsedTime: 18.3 seconds RetCode: 0 Status: OK PackageFile: CGHregions_1.64.0.tar.gz PackageFileSize: 100.1 KiB