Package: CGHregions Version: 1.64.0 Command: /home/biocbuild/bbs-3.20-bioc/R/bin/R CMD build --keep-empty-dirs --no-resave-data --md5 CGHregions StartedAt: 2025-01-27 17:33:22 -0500 (Mon, 27 Jan 2025) EndedAt: 2025-01-27 17:33:32 -0500 (Mon, 27 Jan 2025) EllapsedTime: 10.0 seconds RetCode: 0 Status: OK PackageFile: CGHregions_1.64.0.tar.gz PackageFileSize: 213.8 KiB