Package: CGHregions Version: 1.64.0 Command: rm -rf CGHregions.buildbin-libdir && mkdir CGHregions.buildbin-libdir && /Users/biocbuild/BBS/utils/build-universal.sh CGHregions_1.64.0.tar.gz /Library/Frameworks/R.framework/Resources/bin/R CGHregions.buildbin-libdir StartedAt: 2025-01-28 12:48:04 -0500 (Tue, 28 Jan 2025) EndedAt: 2025-01-28 12:48:16 -0500 (Tue, 28 Jan 2025) EllapsedTime: 11.8 seconds RetCode: 0 Status: OK PackageFile: CGHregions_1.64.0.tgz PackageFileSize: 244.9 KiB