Package: CGHregions Version: 1.64.0 Command: rm -rf CGHregions.buildbin-libdir && mkdir CGHregions.buildbin-libdir && /Users/biocbuild/BBS/utils/build-universal.sh CGHregions_1.64.0.tar.gz /Library/Frameworks/R.framework/Resources/bin/R CGHregions.buildbin-libdir StartedAt: 2024-11-20 04:18:41 -0500 (Wed, 20 Nov 2024) EndedAt: 2024-11-20 04:18:50 -0500 (Wed, 20 Nov 2024) EllapsedTime: 9.3 seconds RetCode: 0 Status: OK PackageFile: CGHregions_1.64.0.tgz PackageFileSize: 244.5 KiB