Package: CGHregions Version: 1.64.0 Command: /home/biocbuild/R/R/bin/R CMD build --keep-empty-dirs --no-resave-data CGHregions StartedAt: 2024-11-19 23:37:33 -0000 (Tue, 19 Nov 2024) EndedAt: 2024-11-19 23:37:44 -0000 (Tue, 19 Nov 2024) EllapsedTime: 11.0 seconds RetCode: 0 Status: OK PackageFile: CGHregions_1.64.0.tar.gz PackageFileSize: 207 KiB