Package: CGHregions Version: 1.64.0 Command: /Library/Frameworks/R.framework/Resources/bin/R CMD INSTALL CGHregions StartedAt: 2025-03-31 15:19:29 -0400 (Mon, 31 Mar 2025) EndedAt: 2025-03-31 15:19:35 -0400 (Mon, 31 Mar 2025) EllapsedTime: 5.8 seconds RetCode: 0 Status: OK