Package: CGHregions Version: 1.64.0 Command: /Library/Frameworks/R.framework/Resources/bin/R CMD build --keep-empty-dirs --no-resave-data CGHregions StartedAt: 2025-03-31 20:24:58 -0400 (Mon, 31 Mar 2025) EndedAt: 2025-03-31 20:25:14 -0400 (Mon, 31 Mar 2025) EllapsedTime: 16.1 seconds RetCode: 0 Status: OK PackageFile: CGHregions_1.64.0.tar.gz PackageFileSize: 213.2 KiB