Package: CGHcall Version: 2.68.0 Command: /home/biocbuild/R/R/bin/R CMD check --install=check:CGHcall.install-out.txt --library=/home/biocbuild/R/R/site-library --no-vignettes --timings CGHcall_2.68.0.tar.gz StartedAt: 2025-02-11 04:43:56 -0000 (Tue, 11 Feb 2025) EndedAt: 2025-02-11 04:44:36 -0000 (Tue, 11 Feb 2025) EllapsedTime: 40.1 seconds RetCode: 0 Status: WARNINGS CheckDir: CGHcall.Rcheck Warnings: 1