Package: CGHcall Version: 2.68.0 Command: /Library/Frameworks/R.framework/Resources/bin/R CMD INSTALL CGHcall StartedAt: 2025-02-03 15:24:36 -0500 (Mon, 03 Feb 2025) EndedAt: 2025-02-03 15:24:42 -0500 (Mon, 03 Feb 2025) EllapsedTime: 5.7 seconds RetCode: 0 Status: OK