Package: CGHcall Version: 2.68.0 Command: /Library/Frameworks/R.framework/Resources/bin/R CMD build --keep-empty-dirs --no-resave-data CGHcall StartedAt: 2025-02-03 20:24:21 -0500 (Mon, 03 Feb 2025) EndedAt: 2025-02-03 20:24:50 -0500 (Mon, 03 Feb 2025) EllapsedTime: 28.5 seconds RetCode: 0 Status: OK PackageFile: CGHcall_2.68.0.tar.gz PackageFileSize: 451.9 KiB