Package: CGHbase Version: 1.66.0 Command: /home/biocbuild/R/R/bin/R CMD build --keep-empty-dirs --no-resave-data CGHbase StartedAt: 2025-01-27 23:12:55 -0000 (Mon, 27 Jan 2025) EndedAt: 2025-01-27 23:12:56 -0000 (Mon, 27 Jan 2025) EllapsedTime: 1.0 seconds RetCode: 0 Status: OK PackageFile: CGHbase_1.66.0.tar.gz PackageFileSize: 848 KiB