Package: CGHbase Version: 1.66.0 Command: /Library/Frameworks/R.framework/Resources/bin/R CMD INSTALL CGHbase StartedAt: 2025-02-03 15:24:27 -0500 (Mon, 03 Feb 2025) EndedAt: 2025-02-03 15:24:36 -0500 (Mon, 03 Feb 2025) EllapsedTime: 9.5 seconds RetCode: 0 Status: OK