Package: CGHbase Version: 1.66.0 Command: /Library/Frameworks/R.framework/Resources/bin/R CMD build --keep-empty-dirs --no-resave-data CGHbase StartedAt: 2025-01-27 20:29:19 -0500 (Mon, 27 Jan 2025) EndedAt: 2025-01-27 20:29:22 -0500 (Mon, 27 Jan 2025) EllapsedTime: 2.3 seconds RetCode: 0 Status: OK PackageFile: CGHbase_1.66.0.tar.gz PackageFileSize: 848 KiB