Package: CGEN Version: 3.42.0 Command: rm -rf CGEN.buildbin-libdir && mkdir CGEN.buildbin-libdir && F:\biocbuild\bbs-3.20-bioc\R\bin\R.exe CMD INSTALL --build --library=CGEN.buildbin-libdir CGEN_3.42.0.tar.gz StartedAt: 2025-04-01 07:52:15 -0400 (Tue, 01 Apr 2025) EndedAt: 2025-04-01 07:53:33 -0400 (Tue, 01 Apr 2025) EllapsedTime: 77.9 seconds RetCode: 0 Status: OK PackageFile: CGEN_3.42.0.zip PackageFileSize: 1.753 MiB