Package: CFAssay Version: 1.40.0 Command: F:\biocbuild\bbs-3.20-bioc\R\bin\R.exe CMD INSTALL CFAssay StartedAt: 2025-02-10 15:37:34 -0500 (Mon, 10 Feb 2025) EndedAt: 2025-02-10 15:37:58 -0500 (Mon, 10 Feb 2025) EllapsedTime: 24.1 seconds RetCode: 0 Status: OK