Package: CEMiTool Version: 1.30.0 Command: /home/biocbuild/bbs-3.20-bioc/R/bin/R CMD INSTALL CEMiTool StartedAt: 2025-01-27 16:38:01 -0500 (Mon, 27 Jan 2025) EndedAt: 2025-01-27 16:38:32 -0500 (Mon, 27 Jan 2025) EllapsedTime: 31.5 seconds RetCode: 0 Status: OK