Package: CEMiTool Version: 1.30.0 Command: /home/biocbuild/bbs-3.20-bioc/R/bin/R CMD check --install=check:CEMiTool.install-out.txt --library=/home/biocbuild/bbs-3.20-bioc/R/site-library --timings CEMiTool_1.30.0.tar.gz StartedAt: 2025-01-27 21:34:38 -0500 (Mon, 27 Jan 2025) EndedAt: 2025-01-27 21:39:22 -0500 (Mon, 27 Jan 2025) EllapsedTime: 283.3 seconds RetCode: 0 Status: OK CheckDir: CEMiTool.Rcheck Warnings: 0