Package: CEMiTool Version: 1.30.0 Command: /home/biocbuild/bbs-3.20-bioc/R/bin/R CMD build --keep-empty-dirs --no-resave-data --md5 CEMiTool StartedAt: 2025-01-27 17:31:34 -0500 (Mon, 27 Jan 2025) EndedAt: 2025-01-27 17:32:55 -0500 (Mon, 27 Jan 2025) EllapsedTime: 81.1 seconds RetCode: 0 Status: OK PackageFile: CEMiTool_1.30.0.tar.gz PackageFileSize: 5.495 MiB