Package: CDI Version: 1.4.0 Command: chmod a+r CDI -R && F:\biocbuild\bbs-3.20-bioc\R\bin\R.exe CMD build --keep-empty-dirs --no-resave-data CDI StartedAt: 2025-01-27 17:49:32 -0500 (Mon, 27 Jan 2025) EndedAt: 2025-01-27 18:02:51 -0500 (Mon, 27 Jan 2025) EllapsedTime: 799.2 seconds RetCode: 0 Status: OK PackageFile: CDI_1.4.0.tar.gz PackageFileSize: 1.811 MiB