Package: CCPlotR Version: 1.4.0 Command: /home/biocbuild/R/R/bin/R CMD build --keep-empty-dirs --no-resave-data CCPlotR StartedAt: 2025-01-27 23:05:47 -0000 (Mon, 27 Jan 2025) EndedAt: 2025-01-27 23:06:37 -0000 (Mon, 27 Jan 2025) EllapsedTime: 50.0 seconds RetCode: 0 Status: OK PackageFile: CCPlotR_1.4.0.tar.gz PackageFileSize: 3.37 MiB