Package: CCPlotR Version: 1.4.0 Command: /Library/Frameworks/R.framework/Resources/bin/R CMD INSTALL CCPlotR StartedAt: 2025-01-27 16:26:23 -0500 (Mon, 27 Jan 2025) EndedAt: 2025-01-27 16:26:37 -0500 (Mon, 27 Jan 2025) EllapsedTime: 14.5 seconds RetCode: 0 Status: OK