Package: CCPROMISE Version: 1.32.0 Command: chmod a+r CCPROMISE -R && F:\biocbuild\bbs-3.20-bioc\R\bin\R.exe CMD build --keep-empty-dirs --no-resave-data CCPROMISE StartedAt: 2025-03-31 17:49:44 -0400 (Mon, 31 Mar 2025) EndedAt: 2025-03-31 17:50:39 -0400 (Mon, 31 Mar 2025) EllapsedTime: 54.8 seconds RetCode: 0 Status: OK PackageFile: CCPROMISE_1.32.0.tar.gz PackageFileSize: 1.031 MiB