Package: CCPROMISE Version: 1.32.0 Command: rm -rf CCPROMISE.buildbin-libdir && mkdir CCPROMISE.buildbin-libdir && F:\biocbuild\bbs-3.20-bioc\R\bin\R.exe CMD INSTALL --build --library=CCPROMISE.buildbin-libdir CCPROMISE_1.32.0.tar.gz StartedAt: 2025-04-01 07:50:55 -0400 (Tue, 01 Apr 2025) EndedAt: 2025-04-01 07:51:17 -0400 (Tue, 01 Apr 2025) EllapsedTime: 22.7 seconds RetCode: 0 Status: OK PackageFile: CCPROMISE_1.32.0.zip PackageFileSize: 1.084 MiB