Package: CCPROMISE Version: 1.32.0 Command: /Library/Frameworks/R.framework/Resources/bin/R CMD INSTALL CCPROMISE StartedAt: 2025-03-31 15:31:02 -0400 (Mon, 31 Mar 2025) EndedAt: 2025-03-31 15:31:38 -0400 (Mon, 31 Mar 2025) EllapsedTime: 36.8 seconds RetCode: 0 Status: OK