Package: CCPROMISE Version: 1.32.0 Command: /Library/Frameworks/R.framework/Resources/bin/R CMD check --install=check:CCPROMISE.install-out.txt --library=/Library/Frameworks/R.framework/Resources/library --no-vignettes --timings CCPROMISE_1.32.0.tar.gz StartedAt: 2025-01-28 01:05:17 -0500 (Tue, 28 Jan 2025) EndedAt: 2025-01-28 01:10:49 -0500 (Tue, 28 Jan 2025) EllapsedTime: 331.7 seconds RetCode: 0 Status: WARNINGS CheckDir: CCPROMISE.Rcheck Warnings: 1