Package: CBEA Version: 1.6.0 Command: rm -rf CBEA.buildbin-libdir && mkdir CBEA.buildbin-libdir && F:\biocbuild\bbs-3.20-bioc\R\bin\R.exe CMD INSTALL --build --library=CBEA.buildbin-libdir CBEA_1.6.0.tar.gz StartedAt: 2025-01-28 07:48:28 -0500 (Tue, 28 Jan 2025) EndedAt: 2025-01-28 07:49:20 -0500 (Tue, 28 Jan 2025) EllapsedTime: 51.8 seconds RetCode: 0 Status: OK PackageFile: CBEA_1.6.0.zip PackageFileSize: 2.483 MiB