Package: CBEA Version: 1.6.0 Command: /Library/Frameworks/R.framework/Resources/bin/R CMD INSTALL CBEA StartedAt: 2025-01-27 17:21:18 -0500 (Mon, 27 Jan 2025) EndedAt: 2025-01-27 17:22:03 -0500 (Mon, 27 Jan 2025) EllapsedTime: 45.0 seconds RetCode: 0 Status: OK