Package: CATALYST Version: 1.30.2 Command: /home/biocbuild/R/R/bin/R CMD build --keep-empty-dirs --no-resave-data CATALYST StartedAt: 2025-01-27 23:03:19 -0000 (Mon, 27 Jan 2025) EndedAt: 2025-01-27 23:07:24 -0000 (Mon, 27 Jan 2025) EllapsedTime: 245.1 seconds RetCode: 0 Status: OK PackageFile: CATALYST_1.30.2.tar.gz PackageFileSize: 7.125 MiB