Package: CATALYST Version: 1.30.2 Command: F:\biocbuild\bbs-3.20-bioc\R\bin\R.exe CMD INSTALL CATALYST StartedAt: 2025-03-31 17:02:44 -0400 (Mon, 31 Mar 2025) EndedAt: 2025-03-31 17:03:56 -0400 (Mon, 31 Mar 2025) EllapsedTime: 71.6 seconds RetCode: 0 Status: OK