Package: CATALYST Version: 1.30.2 Command: rm -rf CATALYST.buildbin-libdir && mkdir CATALYST.buildbin-libdir && F:\biocbuild\bbs-3.20-bioc\R\bin\R.exe CMD INSTALL --build --library=CATALYST.buildbin-libdir CATALYST_1.30.2.tar.gz StartedAt: 2025-04-01 07:49:32 -0400 (Tue, 01 Apr 2025) EndedAt: 2025-04-01 07:51:13 -0400 (Tue, 01 Apr 2025) EllapsedTime: 101.6 seconds RetCode: 0 Status: OK PackageFile: CATALYST_1.30.2.zip PackageFileSize: 7.46 MiB