Package: CATALYST Version: 1.30.2 Command: /home/biocbuild/bbs-3.20-bioc/R/bin/R CMD INSTALL CATALYST StartedAt: 2025-03-31 15:59:32 -0400 (Mon, 31 Mar 2025) EndedAt: 2025-03-31 16:00:06 -0400 (Mon, 31 Mar 2025) EllapsedTime: 33.9 seconds RetCode: 0 Status: OK