Package: CARNIVAL Version: 2.16.0 Command: /home/biocbuild/R/R/bin/R CMD INSTALL CARNIVAL StartedAt: 2025-01-30 20:38:23 -0000 (Thu, 30 Jan 2025) EndedAt: 2025-01-30 20:38:30 -0000 (Thu, 30 Jan 2025) EllapsedTime: 6.4 seconds RetCode: 0 Status: OK