Package: CARNIVAL Version: 2.16.0 Command: /home/biocbuild/R/R/bin/R CMD check --install=check:CARNIVAL.install-out.txt --library=/home/biocbuild/R/R/site-library --no-vignettes --timings CARNIVAL_2.16.0.tar.gz StartedAt: 2025-01-31 04:37:40 -0000 (Fri, 31 Jan 2025) EndedAt: 2025-01-31 04:38:24 -0000 (Fri, 31 Jan 2025) EllapsedTime: 44.0 seconds RetCode: 0 Status: OK CheckDir: CARNIVAL.Rcheck Warnings: 0