Package: CARNIVAL Version: 2.16.0 Command: F:\biocbuild\bbs-3.20-bioc\R\bin\R.exe CMD check --no-multiarch --install=check:CARNIVAL.install-out.txt --library=F:\biocbuild\bbs-3.20-bioc\R\library --no-vignettes --timings CARNIVAL_2.16.0.tar.gz StartedAt: 2025-03-31 23:42:36 -0400 (Mon, 31 Mar 2025) EndedAt: 2025-03-31 23:43:38 -0400 (Mon, 31 Mar 2025) EllapsedTime: 61.7 seconds RetCode: 0 Status: OK CheckDir: CARNIVAL.Rcheck Warnings: 0