Package: CARNIVAL Version: 2.16.0 Command: /home/biocbuild/bbs-3.20-bioc/R/bin/R CMD check --install=check:CARNIVAL.install-out.txt --library=/home/biocbuild/bbs-3.20-bioc/R/site-library --timings CARNIVAL_2.16.0.tar.gz StartedAt: 2025-02-03 20:42:32 -0500 (Mon, 03 Feb 2025) EndedAt: 2025-02-03 20:43:11 -0500 (Mon, 03 Feb 2025) EllapsedTime: 39.0 seconds RetCode: 0 Status: OK CheckDir: CARNIVAL.Rcheck Warnings: 0