Package: CARNIVAL Version: 2.16.0 Command: /Library/Frameworks/R.framework/Resources/bin/R CMD INSTALL CARNIVAL StartedAt: 2025-03-31 15:50:12 -0400 (Mon, 31 Mar 2025) EndedAt: 2025-03-31 15:50:25 -0400 (Mon, 31 Mar 2025) EllapsedTime: 13.0 seconds RetCode: 0 Status: OK