Package: CAMERA Version: 1.62.0 Command: /home/biocbuild/R/R/bin/R CMD INSTALL CAMERA StartedAt: 2025-01-27 21:44:14 -0000 (Mon, 27 Jan 2025) EndedAt: 2025-01-27 21:45:20 -0000 (Mon, 27 Jan 2025) EllapsedTime: 65.9 seconds RetCode: 0 Status: OK