Package: CAMERA Version: 1.62.0 Command: /home/biocbuild/bbs-3.20-bioc/R/bin/R CMD INSTALL CAMERA StartedAt: 2025-01-27 16:32:14 -0500 (Mon, 27 Jan 2025) EndedAt: 2025-01-27 16:33:11 -0500 (Mon, 27 Jan 2025) EllapsedTime: 56.8 seconds RetCode: 0 Status: OK