Package: CAMERA Version: 1.62.0 Command: /home/biocbuild/bbs-3.20-bioc/R/bin/R CMD check --install=check:CAMERA.install-out.txt --library=/home/biocbuild/bbs-3.20-bioc/R/site-library --timings CAMERA_1.62.0.tar.gz StartedAt: 2025-01-27 21:24:53 -0500 (Mon, 27 Jan 2025) EndedAt: 2025-01-27 21:38:07 -0500 (Mon, 27 Jan 2025) EllapsedTime: 794.8 seconds RetCode: 0 Status: WARNINGS CheckDir: CAMERA.Rcheck Warnings: 1