Package: CAMERA Version: 1.62.0 Command: /Library/Frameworks/R.framework/Resources/bin/R CMD check --install=check:CAMERA.install-out.txt --library=/Library/Frameworks/R.framework/Resources/library --no-vignettes --timings CAMERA_1.62.0.tar.gz StartedAt: 2025-01-28 00:59:22 -0500 (Tue, 28 Jan 2025) EndedAt: 2025-01-28 01:15:02 -0500 (Tue, 28 Jan 2025) EllapsedTime: 939.4 seconds RetCode: 1 Status: ERROR CheckDir: CAMERA.Rcheck Warnings: NA