Package: CAMERA Version: 1.62.0 Command: /Library/Frameworks/R.framework/Resources/bin/R CMD check --install=check:CAMERA.install-out.txt --library=/Library/Frameworks/R.framework/Resources/library --no-vignettes --timings CAMERA_1.62.0.tar.gz StartedAt: 2024-11-08 22:05:10 -0500 (Fri, 08 Nov 2024) EndedAt: 2024-11-08 22:08:56 -0500 (Fri, 08 Nov 2024) EllapsedTime: 226.2 seconds RetCode: 1 Status: ERROR CheckDir: CAMERA.Rcheck Warnings: NA