Package: CAMERA Version: 1.62.0 Command: /Library/Frameworks/R.framework/Resources/bin/R CMD build --keep-empty-dirs --no-resave-data CAMERA StartedAt: 2024-11-08 16:20:01 -0500 (Fri, 08 Nov 2024) EndedAt: 2024-11-08 16:20:34 -0500 (Fri, 08 Nov 2024) EllapsedTime: 33.3 seconds RetCode: 0 Status: OK PackageFile: CAMERA_1.62.0.tar.gz PackageFileSize: 2.424 MiB