Package: CAGEr Version: 2.11.3 Command: chmod a+r CAGEr -R && F:\biocbuild\bbs-3.20-bioc\R\bin\R.exe CMD build --keep-empty-dirs --no-resave-data CAGEr StartedAt: 2024-06-09 17:42:00 -0400 (Sun, 09 Jun 2024) EndedAt: 2024-06-09 17:46:27 -0400 (Sun, 09 Jun 2024) EllapsedTime: 267.0 seconds RetCode: 0 Status: OK PackageFile: CAGEr_2.11.3.tar.gz PackageFileSize: 1.578 MiB