Package: CAGEr Version: 2.12.0 Command: rm -rf CAGEr.buildbin-libdir && mkdir CAGEr.buildbin-libdir && /Users/biocbuild/BBS/utils/build-universal.sh CAGEr_2.12.0.tar.gz /Library/Frameworks/R.framework/Resources/bin/R CAGEr.buildbin-libdir StartedAt: 2025-01-29 13:54:05 -0500 (Wed, 29 Jan 2025) EndedAt: 2025-01-29 13:55:26 -0500 (Wed, 29 Jan 2025) EllapsedTime: 80.3 seconds RetCode: 0 Status: OK PackageFile: CAGEr_2.12.0.tgz PackageFileSize: 3.057 MiB